BEGIN:VCALENDAR
VERSION:2.0
PRODID:-//Eventin//Event Calendar//EN
CALSCALE:GREGORIAN
METHOD:PUBLISH
BEGIN:VEVENT
UID:806a99074a23756c78a5db90d66c2ef0@2thrivenow.org
SUMMARY:Spirit &#038\; Truth
DESCRIPTION:Join us each Wednesday evening for Spirit & Truth Bible Study\,
  a time designed to deepen your understanding of God’s Word and strengthe
 n your walk with Christ. Together\, we will study the Gospel\, engage in me
 aningful discussion\, and conclude with a dedicated time of prayer. This mi
 dweek gathering is held virtually through Zoom\, making it easy to stay con
 nected and refreshed no matter where you are. We invite you to grow in fait
 h\, build community\, and experience God’s presence in a powerful way. Vi
 sit www.2thrivenow.org for access\, and come ready to learn\, share\, and b
 e encouraged.Click here to join!\n\n\n\n\n\nMeeting ID: 820 9405 4105\nPass
 code: 641152\nDial-in # 346-248-7799\n\n\n \n\n\n\n\n 
LOCATION:Thrive Christian Ministries\, 16000 N Del Webb Blvd\, Sun City\, A
 Z 85351
DTSTAMP:20260420T055230Z
DTSTART:20261126T013000Z
DTEND:20261126T024000Z
END:VEVENT
END:VCALENDAR
