BEGIN:VCALENDAR
VERSION:2.0
PRODID:-//Eventin//Event Calendar//EN
CALSCALE:GREGORIAN
METHOD:PUBLISH
BEGIN:VEVENT
UID:7d323aa2e24c23f74aef2b1c5dbe74f7@2thrivenow.org
SUMMARY:Weekly Prayer
DESCRIPTION:Thrive Christian Ministries invites you to join us for our week
 ly Prayer Gathering every Wednesday night at 6:00 PM Arizona time\, hosted 
 online via Zoom. This is a powerful opportunity to come together in faith a
 s we seek God’s presence\, lift up personal and corporate prayer needs\, 
 and believe together for breakthrough\, healing\, and direction. Whether yo
 u are joining regularly or for the first time\, this time of prayer is desi
 gned to strengthen your spiritual walk\, encourage your heart\, and remind 
 you that you are not alone. All are welcome to participate as we unite in p
 rayer and grow together in God’s purpose.
LOCATION:Thrive Christian Ministries\, 16000 N Del Webb Blvd\, Sun City\, A
 Z 85351
DTSTAMP:20260422T101221Z
DTSTART:20260514T000000Z
DTEND:20260514T003000Z
END:VEVENT
END:VCALENDAR
